BEGIN:VCALENDAR
VERSION:2.0
PRODID:-//pretix//events.exposingtheinvisible.org//
BEGIN:VTIMEZONE
TZID:Europe/Berlin
BEGIN:STANDARD
DTSTART:20001029T040000
RRULE:FREQ=YEARLY;BYDAY=-1SU;BYMONTH=10
TZNAME:CET
TZOFFSETFROM:+0200
TZOFFSETTO:+0100
END:STANDARD
BEGIN:DAYLIGHT
DTSTART:20000326T030000
RRULE:FREQ=YEARLY;BYDAY=-1SU;BYMONTH=3
TZNAME:CEST
TZOFFSETFROM:+0100
TZOFFSETTO:+0200
END:DAYLIGHT
END:VTIMEZONE
BEGIN:VEVENT
UID:pretix-ttc-investigation-talks-2026-0@events.tacticaltech.org
DTSTART;TZID=Europe/Berlin:20260408T140000
DTEND;TZID=Europe/Berlin:20260409T153000
DESCRIPTION:Tickets: https://events.tacticaltech.org/investigation-talks-20
 26/\nOrganizer: Tactical Tech
DTSTAMP:20260419T143812Z
LOCATION:Online
SUMMARY:'Exposing the Invisible' Investigation Talks 8 & 9 April 2026
END:VEVENT
END:VCALENDAR
